BEGIN:VCALENDAR
VERSION:2.0
PRODID:-//wp-events-plugin.com//7.2.3.1//EN
TZID:Europe/Berlin
X-WR-TIMEZONE:Europe/Berlin
BEGIN:VEVENT
UID:54@tc-hockenheim.de
DTSTART;TZID=Europe/Berlin:20170514T093000
DTEND;TZID=Europe/Berlin:20170514T093000
DTSTAMP:20170511T170247Z
URL:https://www.tc-hockenheim.de/events/1-heimspiel-der-1-herrenmannschaft
 /
SUMMARY:1. Heimspiel der 1. Herrenmannschaft
DESCRIPTION:Flyer Spiele Herren 1\n\nDie 1. Herrenmannschaft startet ihr 1.
  Heimspiel am Sonntag\, 14.05.2017 um 9:30 auf der Anlage im Gartenschaupa
 rk. Die Mannschaft wünscht sich viele jubelnde Zuschauer :-)))
CATEGORIES:TCH Sport
LOCATION:TC Hockenheim\, Dresdener Str. 3\, Hockenheim\, Baden-Württemberg
 \, 68766\, Kurpfalz\, Deutschland
GEO:49.32977564429869;8.545335779901052
X-APPLE-STRUCTURED-LOCATION;VALUE=URI;X-ADDRESS=Dresdener Str. 3\, Hockenhe
 im\, Baden-Württemberg\, 68766\, Kurpfalz\, Deutschland;X-APPLE-RADIUS=10
 0;X-TITLE=TC Hockenheim:geo:49.32977564429869,8.545335779901052
END:VEVENT
BEGIN:VTIMEZONE
TZID:Europe/Berlin
X-LIC-LOCATION:Europe/Berlin
BEGIN:DAYLIGHT
DTSTART:20170326T030000
TZOFFSETFROM:+0100
TZOFFSETTO:+0200
TZNAME:CEST
END:DAYLIGHT
END:VTIMEZONE
END:VCALENDAR