BEGIN:VCALENDAR
VERSION:2.0
PRODID:-//wp-events-plugin.com//7.2.3.1//EN
TZID:Europe/Berlin
X-WR-TIMEZONE:Europe/Berlin
BEGIN:VEVENT
UID:140@tc-hockenheim.de
DTSTART;TZID=Europe/Berlin:20200913T100000
DTEND;TZID=Europe/Berlin:20200913T230000
DTSTAMP:20230831T065826Z
URL:https://www.tc-hockenheim.de/events/3-hockenheimer-mixed-open-turnier-
 mit-champions-dinner/
SUMMARY:3. Hockenheimer Mixed Open Turnier mit Champions Dinner
DESCRIPTION:Das Turnier ist für alle Leistungs- und Breitensportler des TC
  Hockenheim geeignet. Beim gemeinsamen Champions Dinner bei „Da Roberto
 “ Motto US Open - neon meets white werden die Sieger gebührend geehrt u
 nd unter Corona-Bedingungen gefeiert.\n\nKleingedrucktes:\n\n 	Mindestens 
 ein Spieler pro Paarung muss Mitglied des TCH sein.\n 	Jede Paarung muss z
 ur Chancengleichheit gemeinsam eine LK von über 30 oder ein gemeinsames A
 lter von 65 oder mehr erreichen\n 	Anmeldung als Paar oder als Einzelspiel
 er möglich (ein geeigneter Partner wird über die Partnerbörse „ermitt
 elt“)\n 	Spielmodus wird der Teilnehmerzahl angepasst\n 	Auslosung finde
 t beim gemeinsamen Sektempfang am Morgen statt\n 	Teilnahmegebühr: 30.-- 
 Euro pro Person (inkl.: Sektempfang\, Bälle\, Wasser während des Turnier
 s\; Mittagssnack\; Champions-Dinner)\n 	Attraktive Preise\n 	Online-Anmeld
 ung bis 10.09.2020\n
CATEGORIES:TCH Events,TCH Sport
LOCATION:TC Hockenheim\, Dresdener Str. 3\, Hockenheim\, Baden-Württemberg
 \, 68766\, Kurpfalz\, Deutschland
GEO:49.32977564429869;8.545335779901052
X-APPLE-STRUCTURED-LOCATION;VALUE=URI;X-ADDRESS=Dresdener Str. 3\, Hockenhe
 im\, Baden-Württemberg\, 68766\, Kurpfalz\, Deutschland;X-APPLE-RADIUS=10
 0;X-TITLE=TC Hockenheim:geo:49.32977564429869,8.545335779901052
END:VEVENT
BEGIN:VTIMEZONE
TZID:Europe/Berlin
X-LIC-LOCATION:Europe/Berlin
BEGIN:DAYLIGHT
DTSTART:20200329T030000
TZOFFSETFROM:+0100
TZOFFSETTO:+0200
TZNAME:CEST
END:DAYLIGHT
END:VTIMEZONE
END:VCALENDAR