BEGIN:VCALENDAR
VERSION:2.0
PRODID:-//wp-events-plugin.com//7.2.3.1//EN
TZID:Europe/Berlin
X-WR-TIMEZONE:Europe/Berlin
BEGIN:VEVENT
UID:141@tc-hockenheim.de
DTSTART;TZID=Europe/Berlin:20200805T090000
DTEND;TZID=Europe/Berlin:20200808T180000
DTSTAMP:20200706T151849Z
URL:https://www.tc-hockenheim.de/events/absage-rennstadt-cup-2020/
SUMMARY:Absage Rennstadt Cup 2020
DESCRIPTION:Wir sagen den Rennstadt Cup 2020 ab!\nDie teilweise immer noch 
 notwendigen Restriktionen verwässern den Charakter unseres Turniers\, des
 halb verzichten wir in diesem Jahr auf die Durchführung und hoffen auf Be
 sserung im Jahr 2021.
CATEGORIES:TCH Jugend,TCH Sport
LOCATION:TC Hockenheim\, Dresdener Str. 3\, Hockenheim\, Baden-Württemberg
 \, 68766\, Kurpfalz\, Deutschland
GEO:49.32977564429869;8.545335779901052
X-APPLE-STRUCTURED-LOCATION;VALUE=URI;X-ADDRESS=Dresdener Str. 3\, Hockenhe
 im\, Baden-Württemberg\, 68766\, Kurpfalz\, Deutschland;X-APPLE-RADIUS=10
 0;X-TITLE=TC Hockenheim:geo:49.32977564429869,8.545335779901052
END:VEVENT
BEGIN:VTIMEZONE
TZID:Europe/Berlin
X-LIC-LOCATION:Europe/Berlin
BEGIN:DAYLIGHT
DTSTART:20200329T030000
TZOFFSETFROM:+0100
TZOFFSETTO:+0200
TZNAME:CEST
END:DAYLIGHT
END:VTIMEZONE
END:VCALENDAR