BEGIN:VCALENDAR
VERSION:2.0
PRODID:-//wp-events-plugin.com//7.2.3.1//EN
TZID:Europe/Berlin
X-WR-TIMEZONE:Europe/Berlin
BEGIN:VEVENT
UID:56@tc-hockenheim.de
DTSTART;TZID=Europe/Berlin:20170621T193000
DTEND;TZID=Europe/Berlin:20170621T220000
DTSTAMP:20170609T074819Z
URL:https://www.tc-hockenheim.de/events/foerderverein-jugend-hauptversamml
 ung-2017/
SUMMARY:Förderverein Jugend:  Hauptversammlung 2017
DESCRIPTION:Einladung zur Hauptversammlung 2017\nhiermit laden wir Sie/Dich
  recht herzlich zur ordentlichen Hauptversammlung 2017 ein. Die Versammlun
 g findet im vorderen Bereich unseres Club Restaurants Da Roberto\, Dresdne
 rstr. 3 in Hockenheim statt.\nWann: Mittwoch\, 21.06.2017\, Beginn ist um 
 19:30 Uhr.\n\nDie Tagesordnung:\n\n1. Begrüßung\n\n2. Bericht des Vorsta
 ndes\n\n3. Bericht des Kassenwart\n\n4. Bericht des Kassenprüfers\n\n5. E
 ntlastung des Vorstandes\n\n6. Neuwahlen     a. 1. Vorstand      
 b. Kassenwart      c. Schriftführer\n\n7. Jugendförderung 2017 und 
 2018\n\n8. Mitgliederwerbung für den FV\n\n9. Sponsorenbindung TCH\n\n10.
  Sponsorenwerbung TCH\n\n11. Diskussion\, Aussprache\n\nWeitere Vorschläg
 e zur Tagesordnung können bis 15.06.2017 beim 1. Vorsitzenden schriftlich
  eingereicht werden.\nDie Vorstandschaft freut sich auf eine rege Teilnahm
 e zur Veranstaltung.\n\nHeinz Egenlauf             Peter Maier
 \n\nVorstand                      stellv. Vorstand
CATEGORIES:Vorstand
LOCATION:TC Hockenheim\, Dresdener Str. 3\, Hockenheim\, Baden-Württemberg
 \, 68766\, Kurpfalz\, Deutschland
GEO:49.32977564429869;8.545335779901052
X-APPLE-STRUCTURED-LOCATION;VALUE=URI;X-ADDRESS=Dresdener Str. 3\, Hockenhe
 im\, Baden-Württemberg\, 68766\, Kurpfalz\, Deutschland;X-APPLE-RADIUS=10
 0;X-TITLE=TC Hockenheim:geo:49.32977564429869,8.545335779901052
END:VEVENT
BEGIN:VTIMEZONE
TZID:Europe/Berlin
X-LIC-LOCATION:Europe/Berlin
BEGIN:DAYLIGHT
DTSTART:20170326T030000
TZOFFSETFROM:+0100
TZOFFSETTO:+0200
TZNAME:CEST
END:DAYLIGHT
END:VTIMEZONE
END:VCALENDAR