BEGIN:VCALENDAR
VERSION:2.0
PRODID:-//wp-events-plugin.com//7.2.3.1//EN
TZID:Europe/Berlin
X-WR-TIMEZONE:Europe/Berlin
BEGIN:VEVENT
UID:196@tc-hockenheim.de
DTSTART;TZID=Europe/Berlin:20230702T110000
DTEND;TZID=Europe/Berlin:20230702T130000
DTSTAMP:20230625T074323Z
URL:https://www.tc-hockenheim.de/events/heimspiele-und-60-jahre-tennisclub
 -hockenheim/
SUMMARY:Heimspiele und 60 Jahre Tennisclub Hockenheim
DESCRIPTION:
CATEGORIES:Mitgliederevents,TCH Events,TCH Sport
END:VEVENT
BEGIN:VTIMEZONE
TZID:Europe/Berlin
X-LIC-LOCATION:Europe/Berlin
BEGIN:DAYLIGHT
DTSTART:20230326T030000
TZOFFSETFROM:+0100
TZOFFSETTO:+0200
TZNAME:CEST
END:DAYLIGHT
END:VTIMEZONE
END:VCALENDAR