BEGIN:VCALENDAR
VERSION:2.0
PRODID:-//wp-events-plugin.com//7.2.3.1//EN
TZID:Europe/Berlin
X-WR-TIMEZONE:Europe/Berlin
BEGIN:VEVENT
UID:6@tc-hockenheim.de
DTSTART;TZID=Europe/Berlin:20161112T190000
DTEND;TZID=Europe/Berlin:20161112T235900
DTSTAMP:20160918T174722Z
URL:https://www.tc-hockenheim.de/events/herbstball-2016/
SUMMARY:Herbstball 2016
DESCRIPTION: \nDie Anmeldung kann per ONLINE Anmeldung erfolgen oder per E
 -Mail an Herbstball@tc-hockenheim.de\n[sform]20[/sform]\nBei Überweisung 
 bitte ein Konto des TC Hockenheim nutzen (siehe Impressum)
CATEGORIES:TCH Events
LOCATION:TC Hockenheim\, Dresdener Str. 3\, Hockenheim\, Baden-Württemberg
 \, 68766\, Kurpfalz\, Deutschland
GEO:49.32977564429869;8.545335779901052
X-APPLE-STRUCTURED-LOCATION;VALUE=URI;X-ADDRESS=Dresdener Str. 3\, Hockenhe
 im\, Baden-Württemberg\, 68766\, Kurpfalz\, Deutschland;X-APPLE-RADIUS=10
 0;X-TITLE=TC Hockenheim:geo:49.32977564429869,8.545335779901052
END:VEVENT
BEGIN:VTIMEZONE
TZID:Europe/Berlin
X-LIC-LOCATION:Europe/Berlin
BEGIN:STANDARD
DTSTART:20161030T020000
TZOFFSETFROM:+0200
TZOFFSETTO:+0100
TZNAME:CET
END:STANDARD
END:VTIMEZONE
END:VCALENDAR