BEGIN:VCALENDAR
VERSION:2.0
PRODID:-//wp-events-plugin.com//7.2.3.1//EN
TZID:Europe/Berlin
X-WR-TIMEZONE:Europe/Berlin
BEGIN:VEVENT
UID:191@tc-hockenheim.de
DTSTART;TZID=Europe/Berlin:20231111T190000
DTEND;TZID=Europe/Berlin:20231112T020000
DTSTAMP:20231030T192440Z
URL:https://www.tc-hockenheim.de/events/herbstball-2023/
SUMMARY:Herbstball 2023
DESCRIPTION:Unser jährlicher Herbstball findet am Samstag\, 11. November 2
 023 ab 19 Uhr in unserem Restaurant Da Roberto statt.\n\nAchtung: Am 30.10
 .2023 20.15 Uhr haben wir die Anmeldung geschlossen\, da die max. Anzahl v
 on Anmeldungen erreicht ist!
CATEGORIES:Mitgliederevents,TCH Events
LOCATION:TC Hockenheim\, Dresdener Str. 3\, Hockenheim\, Baden-Württemberg
 \, 68766\, Kurpfalz\, Deutschland
GEO:49.32977564429869;8.545335779901052
X-APPLE-STRUCTURED-LOCATION;VALUE=URI;X-ADDRESS=Dresdener Str. 3\, Hockenhe
 im\, Baden-Württemberg\, 68766\, Kurpfalz\, Deutschland;X-APPLE-RADIUS=10
 0;X-TITLE=TC Hockenheim:geo:49.32977564429869,8.545335779901052
END:VEVENT
BEGIN:VTIMEZONE
TZID:Europe/Berlin
X-LIC-LOCATION:Europe/Berlin
BEGIN:STANDARD
DTSTART:20231029T020000
TZOFFSETFROM:+0200
TZOFFSETTO:+0100
TZNAME:CET
END:STANDARD
END:VTIMEZONE
END:VCALENDAR