BEGIN:VCALENDAR
VERSION:2.0
PRODID:-//wp-events-plugin.com//7.2.3.1//EN
TZID:Europe/Berlin
X-WR-TIMEZONE:Europe/Berlin
BEGIN:VEVENT
UID:55@tc-hockenheim.de
DTSTART;TZID=Europe/Berlin:20170605T140000
DTEND;TZID=Europe/Berlin:20170605T140000
DTSTAMP:20170604T102747Z
URL:https://www.tc-hockenheim.de/events/pfingst-mixed/
SUMMARY:Pfingst Mixed: Abgesagt !   Abgesagt !   Abgesagt !
DESCRIPTION:Traditionelles Schleifchen Turnier am Pfingstmontag\n\nBeginn 1
 4:00 Uhr\, Siegerehrung 18:00 Uhr\n\nBitte in die Teilnehmerlisten an der 
 Infotafel vor den Umkleiden eintragen\n\noder per E-Mail an:  events@tc-h
 ockenheim.de
CATEGORIES:TCH Sport
LOCATION:TC Hockenheim\, Dresdener Str. 3\, Hockenheim\, Baden-Württemberg
 \, 68766\, Kurpfalz\, Deutschland
GEO:49.32977564429869;8.545335779901052
X-APPLE-STRUCTURED-LOCATION;VALUE=URI;X-ADDRESS=Dresdener Str. 3\, Hockenhe
 im\, Baden-Württemberg\, 68766\, Kurpfalz\, Deutschland;X-APPLE-RADIUS=10
 0;X-TITLE=TC Hockenheim:geo:49.32977564429869,8.545335779901052
END:VEVENT
BEGIN:VTIMEZONE
TZID:Europe/Berlin
X-LIC-LOCATION:Europe/Berlin
BEGIN:DAYLIGHT
DTSTART:20170326T030000
TZOFFSETFROM:+0100
TZOFFSETTO:+0200
TZNAME:CEST
END:DAYLIGHT
END:VTIMEZONE
END:VCALENDAR