BEGIN:VCALENDAR
VERSION:2.0
PRODID:-//wp-events-plugin.com//7.2.3.1//EN
TZID:Europe/Berlin
X-WR-TIMEZONE:Europe/Berlin
BEGIN:VEVENT
UID:208@tc-hockenheim.de
DTSTART;TZID=Europe/Berlin:20240929T090000
DTEND;TZID=Europe/Berlin:20240929T180000
DTSTAMP:20240827T083826Z
URL:https://www.tc-hockenheim.de/events/rennstadt-open-herren-2017/
SUMMARY:6. Rennstadt-Open Tagesturnier
DESCRIPTION:6. Rennstadt-Open Tagesturnier 29.09.2024\n\n\nUnser 6. Rennsta
 dt-Open Tagesturnier findet am Sonntag\, 29.09.2024 ab 9 Uhr für Herren L
 K 1\,0-25\,0 statt.\nAnmeldung über mybigpoint.\nAnmeldeschluss 26.09.202
 4.
CATEGORIES:TCH Sport
LOCATION:TC Hockenheim\, Dresdener Str. 3\, Hockenheim\, Baden-Württemberg
 \, 68766\, Kurpfalz\, Deutschland
GEO:49.32977564429869;8.545335779901052
X-APPLE-STRUCTURED-LOCATION;VALUE=URI;X-ADDRESS=Dresdener Str. 3\, Hockenhe
 im\, Baden-Württemberg\, 68766\, Kurpfalz\, Deutschland;X-APPLE-RADIUS=10
 0;X-TITLE=TC Hockenheim:geo:49.32977564429869,8.545335779901052
END:VEVENT
BEGIN:VTIMEZONE
TZID:Europe/Berlin
X-LIC-LOCATION:Europe/Berlin
BEGIN:DAYLIGHT
DTSTART:20240331T030000
TZOFFSETFROM:+0100
TZOFFSETTO:+0200
TZNAME:CEST
END:DAYLIGHT
END:VTIMEZONE
END:VCALENDAR