BEGIN:VCALENDAR
VERSION:2.0
PRODID:-//wp-events-plugin.com//7.2.3.1//EN
TZID:Europe/Berlin
X-WR-TIMEZONE:Europe/Berlin
BEGIN:VEVENT
UID:134@tc-hockenheim.de
DTSTART;TZID=Europe/Berlin:20230429T130000
DTEND;TZID=Europe/Berlin:20230429T160000
DTSTAMP:20230426T133003Z
URL:https://www.tc-hockenheim.de/events/tag-des-tennis-29-04-2023/
SUMMARY:Tag des Tennis 29.04.2023
DESCRIPTION:Unser Tag des Tennis für Kinder\, Jugendliche und Jedermann zu
 m Beginn der Tennisfreiluftsaison 2023 startet am Samstag\, 29. April um 1
 3 Uhr auf unserer Anlage.\n\n\n\n
CATEGORIES:Mitgliederevents,TCH Events,Vorstand
LOCATION:TC Hockenheim\, Dresdener Str. 3\, Hockenheim\, Baden-Württemberg
 \, 68766\, Kurpfalz\, Deutschland
GEO:49.32977564429869;8.545335779901052
X-APPLE-STRUCTURED-LOCATION;VALUE=URI;X-ADDRESS=Dresdener Str. 3\, Hockenhe
 im\, Baden-Württemberg\, 68766\, Kurpfalz\, Deutschland;X-APPLE-RADIUS=10
 0;X-TITLE=TC Hockenheim:geo:49.32977564429869,8.545335779901052
END:VEVENT
BEGIN:VTIMEZONE
TZID:Europe/Berlin
X-LIC-LOCATION:Europe/Berlin
BEGIN:DAYLIGHT
DTSTART:20230326T030000
TZOFFSETFROM:+0100
TZOFFSETTO:+0200
TZNAME:CEST
END:DAYLIGHT
END:VTIMEZONE
END:VCALENDAR