BEGIN:VCALENDAR
VERSION:2.0
PRODID:-//wp-events-plugin.com//7.2.3.1//EN
TZID:Europe/Berlin
X-WR-TIMEZONE:Europe/Berlin
BEGIN:VEVENT
UID:97@tc-hockenheim.de
DTSTART;TZID=Europe/Berlin;VALUE=DATE:20181130
DTEND;TZID=Europe/Berlin;VALUE=DATE:20181203
DTSTAMP:20181210T150030Z
URL:https://www.tc-hockenheim.de/events/tch-auf-dem-hockenheimer-adventsma
 rkt/
SUMMARY:TCH auf dem Hockenheimer Adventsmarkt
DESCRIPTION:Auch in diesem Jahr wird der TCH auf dem Hockenheimer Weihnacht
 smarkt dabei sein und Glühwein\, Kinderpunsch sowie seine frittierten Eng
 elslocken anbieten. Schauen Sie doch vorbei und unterstützen Sie die Hock
 enheimer Tennisjugend!
CATEGORIES:TCH Events,TCH Jugend
LOCATION:Evangelische Kirche Hockenheim\, Rathausstraße 6\, Hockenheim\, B
 aden-Württemberg\, 68766\, Kurpfalz\, Deutschland
GEO:49.3179295;8.549395000000004
X-APPLE-STRUCTURED-LOCATION;VALUE=URI;X-ADDRESS=Rathausstraße 6\, Hockenhe
 im\, Baden-Württemberg\, 68766\, Kurpfalz\, Deutschland;X-APPLE-RADIUS=10
 0;X-TITLE=Evangelische Kirche Hockenheim:geo:49.3179295,8.549395000000004
END:VEVENT
BEGIN:VTIMEZONE
TZID:Europe/Berlin
X-LIC-LOCATION:Europe/Berlin
BEGIN:STANDARD
DTSTART:20181028T020000
TZOFFSETFROM:+0200
TZOFFSETTO:+0100
TZNAME:CET
END:STANDARD
END:VTIMEZONE
END:VCALENDAR