BEGIN:VCALENDAR
VERSION:2.0
PRODID:-//wp-events-plugin.com//7.2.3.1//EN
TZID:Europe/Berlin
X-WR-TIMEZONE:Europe/Berlin
BEGIN:VEVENT
UID:99@tc-hockenheim.de
DTSTART;TZID=Europe/Berlin;VALUE=DATE:20181214
DTEND;TZID=Europe/Berlin;VALUE=DATE:20181215
DTSTAMP:20181210T145819Z
URL:https://www.tc-hockenheim.de/events/tch-nikolausturnier-und-abschlussg
 rillen-3/
SUMMARY:TCH Nikolausturnier und Abschlussgrillen
DESCRIPTION:Nikolausturnier und Abschlussgrillen beim TC Hockenheim\nWie in
  jedem Jahr veranstaltet die TCH Jugend wieder ein Nikolausturnier. Der Ni
 kolaus wird dieses Jahr am Freitag\, den 14.12.2018 gegen 18:15 Uhr kommen
 . Vorher haben alle Talentinos\, U10\, U12 und U14 wieder die Möglichkeit
  an unserem Spaßturnier teilzunehmen.\nStart für alle Talentinos\, U10\,
  U12 und U14 ist um 15:00 in der TCH Halle. Das TCH Trainerteam wird wiede
 r spannende Spiele vorbereiten - lasst euch überraschen.\nUm 18:30 Uhr si
 nd auch eure Eltern\, Großeltern\, Freunde und alle Bekannte zum großen 
 Abschlussgrillen eingeladen. Es gibt wieder Glühwein für die Erwachsenen
  und Kinderpunsch für alle Kinder und Jugendlichen.\nWir wünschen alle v
 iel SPASS :-)\n[sform]21[/sform]
CATEGORIES:TCH Events,TCH Jugend
LOCATION:TC Hockenheim\, Dresdener Str. 3\, Hockenheim\, Baden-Württemberg
 \, 68766\, Kurpfalz\, Deutschland
GEO:49.32977564429869;8.545335779901052
X-APPLE-STRUCTURED-LOCATION;VALUE=URI;X-ADDRESS=Dresdener Str. 3\, Hockenhe
 im\, Baden-Württemberg\, 68766\, Kurpfalz\, Deutschland;X-APPLE-RADIUS=10
 0;X-TITLE=TC Hockenheim:geo:49.32977564429869,8.545335779901052
END:VEVENT
BEGIN:VTIMEZONE
TZID:Europe/Berlin
X-LIC-LOCATION:Europe/Berlin
BEGIN:STANDARD
DTSTART:20181028T020000
TZOFFSETFROM:+0200
TZOFFSETTO:+0100
TZNAME:CET
END:STANDARD
END:VTIMEZONE
END:VCALENDAR