BEGIN:VCALENDAR
VERSION:2.0
PRODID:-//wp-events-plugin.com//7.2.3.1//EN
TZID:Europe/Berlin
X-WR-TIMEZONE:Europe/Berlin
BEGIN:VEVENT
UID:131@tc-hockenheim.de
DTSTART;TZID=Europe/Berlin:20200117T180000
DTEND;TZID=Europe/Berlin:20200117T210000
DTSTAMP:20200112T191143Z
URL:https://www.tc-hockenheim.de/events/tch-stand-auf-neujahrsempfang/
SUMMARY:TCH-Stand auf Neujahrsempfang
DESCRIPTION:Der Tennisclub Hockenheim ist am Freitag\, 13. Januar 2020 mit 
 einem Stand auf dem Neujahrsempfang der Stadt Hockenheim in der Stadthalle
  ab 18 Uhr vertreten.\n\nWir freuen uns über zahlreiche Besucher und Inte
 ressenten für den weißen Sport!
CATEGORIES:TCH Events,Vorstand
LOCATION:TC Hockenheim\, Dresdener Str. 3\, Hockenheim\, Baden-Württemberg
 \, 68766\, Kurpfalz\, Deutschland
GEO:49.32977564429869;8.545335779901052
X-APPLE-STRUCTURED-LOCATION;VALUE=URI;X-ADDRESS=Dresdener Str. 3\, Hockenhe
 im\, Baden-Württemberg\, 68766\, Kurpfalz\, Deutschland;X-APPLE-RADIUS=10
 0;X-TITLE=TC Hockenheim:geo:49.32977564429869,8.545335779901052
END:VEVENT
BEGIN:VTIMEZONE
TZID:Europe/Berlin
X-LIC-LOCATION:Europe/Berlin
BEGIN:STANDARD
DTSTART:20191027T020000
TZOFFSETFROM:+0200
TZOFFSETTO:+0100
TZNAME:CET
END:STANDARD
END:VTIMEZONE
END:VCALENDAR