BEGIN:VCALENDAR
VERSION:2.0
PRODID:-//wp-events-plugin.com//7.2.3.1//EN
TZID:Europe/Berlin
X-WR-TIMEZONE:Europe/Berlin
BEGIN:VEVENT
UID:106@tc-hockenheim.de
DTSTART;TZID=Europe/Berlin:20190112T120000
DTEND;TZID=Europe/Berlin:20190126T130000
DTSTAMP:20190113T164751Z
URL:https://www.tc-hockenheim.de/events/tennis-xpress-tennis-fuer-erwachse
 ne-3/
SUMMARY:tennis Xpress - Tennis für Erwachsene
DESCRIPTION:tennis Xpress - Tennis für Erwachsene startet am 12.01.2019. E
 s sind noch 2 Plätze frei.
CATEGORIES:TCH Events,TCH Sport
LOCATION:TC Hockenheim\, Dresdener Str. 3\, Hockenheim\, Baden-Württemberg
 \, 68766\, Kurpfalz\, Deutschland
GEO:49.32977564429869;8.545335779901052
X-APPLE-STRUCTURED-LOCATION;VALUE=URI;X-ADDRESS=Dresdener Str. 3\, Hockenhe
 im\, Baden-Württemberg\, 68766\, Kurpfalz\, Deutschland;X-APPLE-RADIUS=10
 0;X-TITLE=TC Hockenheim:geo:49.32977564429869,8.545335779901052
END:VEVENT
BEGIN:VTIMEZONE
TZID:Europe/Berlin
X-LIC-LOCATION:Europe/Berlin
BEGIN:STANDARD
DTSTART:20181028T020000
TZOFFSETFROM:+0200
TZOFFSETTO:+0100
TZNAME:CET
END:STANDARD
END:VTIMEZONE
END:VCALENDAR